Workbook

Sheet 総括表
B1: 令和6年度 財政状況資料集
B2: 総括表（市町村）
B3: 都道府県名 | L3: 福島県 | W3: 市町村類型 | AC3: Ⅰ－１ | AM3: 指定団体等の指定状況 | AY3: 区分 | BN3: 令和6年度(千円) | BV3: 令和5年度(千円) | CD3: 区分 | CT3: 令和6年度(千円･％) | DB3: 令和5年度(千円･％)
AY4: 歳入総額 | BN4: 15118531 | BV4: 18939336 | CD4: 実質収支比率 | CT4: 11.8 | DB4: 14.3
AM5: 財政健全化等 | AU5: × | AY5: 歳出総額 | BN5: 13885595 | BV5: 17981527 | CD5: 経常収支比率 | CT5: 79.8 | DB5: 81.8
B6: 市町村名 | L6: 富岡町 | W6: 地方交付税種地 | AC6: 2-2 | AM6: 財源超過 | AU6: × | AY6: 歳入歳出差引 | BN6: 1232936 | BV6: 957809 | CD6: (※1) | CT6: 79.8 | DB6: 81.8
AM7: 首都 | AU7: × | AY7: 翌年度に繰越すべき財源 | BN7: 719232 | BV7: 350008 | CD7: 標準財政規模 | CT7: 4350585 | DB7: 4253754
AM8: 近畿 | AU8: × | AY8: 実質収支 | BN8: 513704 | BV8: 607801 | CD8: 財政力指数 | CT8: 0.64 | DB8: 0.68
B9: 人口 | L9: 令和2年国調(人) | R9: 2128 | W9: 産業構造 (※5) | AM9: 中部 | AU9: × | AY9: 単年度収支 | BN9: -94097 | BV9: -388139 | CD9: 公債費負担比率 | CT9: 0.5 | DB9: 0.8
L10: 平成27年国調(人) | R10: 0 | AM10: 過疎 | AU10: × | AY10: 積立金 | BN10: 272736 | BV10: 783634 | CD10: 健全化判断比率
L11: 増減率 (％) | R11: 100.0 | AM11: 山振 | AU11: × | AY11: 繰上償還金 | BN11: 0 | BV11: 0 | CD11: 実質赤字比率 | CT11: - | DB11: -
B12: 住民基本台帳人口 (※7) | L12: 令07.01.01(人) | R12: 11316 | W12: 区分 | AC12: 令和2年国調 | AH12: 平成27年国調 | AM12: 低開発 | AU12: ○ | AY12: 積立金取崩し額 | BN12: 1545639 | BV12: 854039 | CD12: 連結実質赤字比率 | CT12: - | DB12: -
M13: うち日本人(人) | R13: 11176 | W13: 第1次 | AC13: 34 | AH13: - | AM13: 指数表選定 | AU13: × | AY13: 実質単年度収支 | BN13: -1367000 | BV13: -458544 | CD13: 実質公債費比率 | CT13: -0.3 | DB13: -2.6
L14: 令06.01.01(人) | R14: 11516 | AC14: 2.6 | AH14: - | CD14: 将来負担比率 | CT14: - | DB14: -
M15: うち日本人(人) | R15: 11417 | W15: 第2次 | AC15: 534 | AH15: - | AY15: 基準財政収入額 | BN15: 2243770 | BV15: 2244050 | CD15: 資金不足比率 (※4)
L16: 増減率 (％) | R16: -1.7 | AC16: 41.2 | AH16: - | AY16: 基準財政需要額 | BN16: 3662217 | BV16: 3558082
M17: うち日本人(％) | R17: -2.1 | W17: 第3次 | AC17: 727 | AH17: - | AY17: 標準税収入額等 | BN17: 2876608 | BV17: 2875039
B18: 面積 (k㎡) | L18: 68.39 | AC18: 56.1 | AH18: - | AY18: 経常経費充当一般財源等 | BN18: 3381887 | BV18: 3264978
B19: 人口密度 (人/k㎡) | L19: 31 | AY19: 歳入一般財源等 | BN19: 8765659 | BV19: 8152547
B20: 世帯数 (世帯) | L20: 1640
B21: 職員の状況 (※8)
B22: 特別職等 | E22: 区分 | L22: 定数 | Q22: 1人あたり平均 給料月額(百円) | W22: 一般職員等(※6) | Z22: 区分 | AH22: 職員数 (人) | AM22: 給料月額 (百円) | AS22: 1人あたり平均 給料月額(百円) | AY22: 地方債現在高 | BN22: 370474 | BV22: 408790
AY23: うち公的資金 | BN23: 368774 | BV23: 407090
E24: 市区町村長 | L24: 1 | Q24: 7743 | Z24: 一般職員 | AH24: 138 | AM24: 411240 | AS24: 2980 | AY24: 地方債現在高（臨時財政対策債除き） | BN24: 370474 | BV24: 408790
E25: 副市区町村長 | L25: 2 | Q25: 6118 | Z25: うち消防職員 | AH25: - | AM25: - | AS25: - | AY25: 債務負担行為額（支出予定額） | BN25: 4242777 | BV25: 3583921
E26: 教育長 | L26: 1 | Q26: 5795 | Z26: うち技能労務職員 | AH26: - | AM26: - | AS26: - | AY26: 収益事業収入 | BN26: - | BV26: -
E27: 議会議長 | L27: 1 | Q27: 3080 | Z27: 教育公務員 | AH27: 11 | AM27: 30822 | AS27: 2802 | AY27: 土地開発基金現在高 | BN27: 248032 | BV27: 248023
E28: 議会副議長 | L28: 1 | Q28: 2590 | Z28: 臨時職員 | AH28: - | AM28: - | AS28: - | AY28: 積立金 現在高 | BC28: 財政調整基金 | BN28: 6772706 | BV28: 7741609
E29: 議会議員 | L29: 8 | Q29: 2380 | Z29: 合計 | AH29: 149 | AM29: 442062 | AS29: 2967 | BC29: 減債基金 | BN29: 284302 | BV29: 284147
W30: ラスパイレス指数 | AH30: 98.3 | BC30: その他特定目的基金 | BN30: 15209740 | BV30: 15201903
C32: 一般会計等の一覧 | U32: 事業会計の一覧 | AM32: 公営企業（法適）の一覧 | BE32: 公営企業（法非適）の一覧 | BW32: 関係する一部事務組合等一覧 | CO32: 地方公社・第三セクター等一覧
C33: 項番 | E33: 会計名 | U33: 項番 | W33: 会計名 | AM33: 項番 | AO33: 会計名 | BE33: 項番 | BG33: 会計名 | BW33: 項番 | BY33: 組合等名 | CO33: 項番 | CQ33: 団体名 | DG33: (※3)
C34: =IF(E34="","",1) -> 1 | E34: =IF('各会計、関係団体の財政状況及び健全化判断比率'!B7="","",'各会計、関係団体の財政状況及び健全化判断比率'!B7) -> 一般会計 | U34: =IF(W34="","",MAX(C34:D43)+1) -> 2 | W34: =IF('各会計、関係団体の財政状況及び健全化判断比率'!B28="","",'各会計、関係団体の財政状況及び健全化判断比率'!B28) -> 国民健康保険事業特別会計 | AM34: =IF(AO34="","",MAX(C34:D43,U34:V43)+1) | BE34: =IF(BG34="","",MAX(C34:D43,U34:V43,AM34:AN43)+1) -> 6 | BG34: =IF('各会計、関係団体の財政状況及び健全化判断比率'!B32="","",'各会計、関係団体の財政状況及び健全化判断比率'!B32) -> 公共下水道事業特別会計 | BW34: =IF(BY34="","",MAX(C34:D43,U34:V43,AM34:AN43,BE34:BF43)+1) -> 8 | BY34: =IF('各会計、関係団体の財政状況及び健全化判断比率'!B68="","",'各会計、関係団体の財政状況及び健全化判断比率'!B68) -> 双葉地方水道企業団 水道事業会計 | CO34: =IF(CQ34="","",MAX(C34:D43,U34:V43,AM34:AN43,BE34:BF43,BW34:BX43)+1) -> 18 | CQ34: =IF('各会計、関係団体の財政状況及び健全化判断比率'!BS7="","",'各会計、関係団体の財政状況及び健全化判断比率'!BS7) -> （一社）富岡新エネルギー | DG34: =IF('各会計、関係団体の財政状況及び健全化判断比率'!BR7="","",'各会計、関係団体の財政状況及び健全化判断比率'!BR7)
C35: =IF(E35="","",C34+1) | E35: =IF('各会計、関係団体の財政状況及び健全化判断比率'!B8="","",'各会計、関係団体の財政状況及び健全化判断比率'!B8) | U35: =IF(W35="","",U34+1) -> 3 | W35: =IF('各会計、関係団体の財政状況及び健全化判断比率'!B29="","",'各会計、関係団体の財政状況及び健全化判断比率'!B29) -> 介護保険事業特別会計 | AM35: =IF(AO35="","",AM34+1) | BE35: =IF(BG35="","",BE34+1) -> 7 | BG35: =IF('各会計、関係団体の財政状況及び健全化判断比率'!B33="","",'各会計、関係団体の財政状況及び健全化判断比率'!B33) -> 農業集落排水事業特別会計 | BW35: =IF(BY35="","",BW34+1) -> 9 | BY35: =IF('各会計、関係団体の財政状況及び健全化判断比率'!B69="","",'各会計、関係団体の財政状況及び健全化判断比率'!B69) -> 双葉地方水道企業団 工業用水道事業会計 | CO35: =IF(CQ35="","",CO34+1) | CQ35: =IF('各会計、関係団体の財政状況及び健全化判断比率'!BS8="","",'各会計、関係団体の財政状況及び健全化判断比率'!BS8) | DG35: =IF('各会計、関係団体の財政状況及び健全化判断比率'!BR8="","",'各会計、関係団体の財政状況及び健全化判断比率'!BR8)
C36: =IF(E36="","",C35+1) | E36: =IF('各会計、関係団体の財政状況及び健全化判断比率'!B9="","",'各会計、関係団体の財政状況及び健全化判断比率'!B9) | U36: =IF(W36="","",U35+1) -> 4 | W36: =IF('各会計、関係団体の財政状況及び健全化判断比率'!B30="","",'各会計、関係団体の財政状況及び健全化判断比率'!B30) -> 後期高齢者医療特別会計 | AM36: =IF(AO36="","",AM35+1) | BE36: =IF(BG36="","",BE35+1) | BW36: =IF(BY36="","",BW35+1) -> 10 | BY36: =IF('各会計、関係団体の財政状況及び健全化判断比率'!B70="","",'各会計、関係団体の財政状況及び健全化判断比率'!B70) -> 双葉地方広域市町村圏組合 一般会計 | CO36: =IF(CQ36="","",CO35+1) | CQ36: =IF('各会計、関係団体の財政状況及び健全化判断比率'!BS9="","",'各会計、関係団体の財政状況及び健全化判断比率'!BS9) | DG36: =IF('各会計、関係団体の財政状況及び健全化判断比率'!BR9="","",'各会計、関係団体の財政状況及び健全化判断比率'!BR9)
C37: =IF(E37="","",C36+1) | E37: =IF('各会計、関係団体の財政状況及び健全化判断比率'!B10="","",'各会計、関係団体の財政状況及び健全化判断比率'!B10) | U37: =IF(W37="","",U36+1) -> 5 | W37: =IF('各会計、関係団体の財政状況及び健全化判断比率'!B31="","",'各会計、関係団体の財政状況及び健全化判断比率'!B31) -> 介護サービス事業特別会計 | AM37: =IF(AO37="","",AM36+1) | BE37: =IF(BG37="","",BE36+1) | BW37: =IF(BY37="","",BW36+1) -> 11 | BY37: =IF('各会計、関係団体の財政状況及び健全化判断比率'!B71="","",'各会計、関係団体の財政状況及び健全化判断比率'!B71) -> 双葉地方広域市町村圏組合 下水道事業特別会計 | CO37: =IF(CQ37="","",CO36+1) | CQ37: =IF('各会計、関係団体の財政状況及び健全化判断比率'!BS10="","",'各会計、関係団体の財政状況及び健全化判断比率'!BS10) | DG37: =IF('各会計、関係団体の財政状況及び健全化判断比率'!BR10="","",'各会計、関係団体の財政状況及び健全化判断比率'!BR10)
C38: =IF(E38="","",C37+1) | E38: =IF('各会計、関係団体の財政状況及び健全化判断比率'!B11="","",'各会計、関係団体の財政状況及び健全化判断比率'!B11) | U38: =IF(W38="","",U37+1) | AM38: =IF(AO38="","",AM37+1) | BE38: =IF(BG38="","",BE37+1) | BW38: =IF(BY38="","",BW37+1) -> 12 | BY38: =IF('各会計、関係団体の財政状況及び健全化判断比率'!B72="","",'各会計、関係団体の財政状況及び健全化判断比率'!B72) -> 福島県市町村総合事務組合 一般会計 | CO38: =IF(CQ38="","",CO37+1) | CQ38: =IF('各会計、関係団体の財政状況及び健全化判断比率'!BS11="","",'各会計、関係団体の財政状況及び健全化判断比率'!BS11) | DG38: =IF('各会計、関係団体の財政状況及び健全化判断比率'!BR11="","",'各会計、関係団体の財政状況及び健全化判断比率'!BR11)
C39: =IF(E39="","",C38+1) | E39: =IF('各会計、関係団体の財政状況及び健全化判断比率'!B12="","",'各会計、関係団体の財政状況及び健全化判断比率'!B12) | U39: =IF(W39="","",U38+1) | AM39: =IF(AO39="","",AM38+1) | BE39: =IF(BG39="","",BE38+1) | BW39: =IF(BY39="","",BW38+1) -> 13 | BY39: =IF('各会計、関係団体の財政状況及び健全化判断比率'!B73="","",'各会計、関係団体の財政状況及び健全化判断比率'!B73) -> 福島県市町村総合事務組合 消防補償等特別会計 | CO39: =IF(CQ39="","",CO38+1) | CQ39: =IF('各会計、関係団体の財政状況及び健全化判断比率'!BS12="","",'各会計、関係団体の財政状況及び健全化判断比率'!BS12) | DG39: =IF('各会計、関係団体の財政状況及び健全化判断比率'!BR12="","",'各会計、関係団体の財政状況及び健全化判断比率'!BR12)
C40: =IF(E40="","",C39+1) | E40: =IF('各会計、関係団体の財政状況及び健全化判断比率'!B13="","",'各会計、関係団体の財政状況及び健全化判断比率'!B13) | U40: =IF(W40="","",U39+1) | AM40: =IF(AO40="","",AM39+1) | BE40: =IF(BG40="","",BE39+1) | BW40: =IF(BY40="","",BW39+1) -> 14 | BY40: =IF('各会計、関係団体の財政状況及び健全化判断比率'!B74="","",'各会計、関係団体の財政状況及び健全化判断比率'!B74) -> 福島県市町村総合事務組合 消防賞じゅつ金特別会計 | CO40: =IF(CQ40="","",CO39+1) | CQ40: =IF('各会計、関係団体の財政状況及び健全化判断比率'!BS13="","",'各会計、関係団体の財政状況及び健全化判断比率'!BS13) | DG40: =IF('各会計、関係団体の財政状況及び健全化判断比率'!BR13="","",'各会計、関係団体の財政状況及び健全化判断比率'!BR13)
C41: =IF(E41="","",C40+1) | E41: =IF('各会計、関係団体の財政状況及び健全化判断比率'!B14="","",'各会計、関係団体の財政状況及び健全化判断比率'!B14) | U41: =IF(W41="","",U40+1) | AM41: =IF(AO41="","",AM40+1) | BE41: =IF(BG41="","",BE40+1) | BW41: =IF(BY41="","",BW40+1) -> 15 | BY41: =IF('各会計、関係団体の財政状況及び健全化判断比率'!B75="","",'各会計、関係団体の財政状況及び健全化判断比率'!B75) -> 福島県市町村総合事務組合 非常勤職員公務災害補償特別会計 | CO41: =IF(CQ41="","",CO40+1) | CQ41: =IF('各会計、関係団体の財政状況及び健全化判断比率'!BS14="","",'各会計、関係団体の財政状況及び健全化判断比率'!BS14) | DG41: =IF('各会計、関係団体の財政状況及び健全化判断比率'!BR14="","",'各会計、関係団体の財政状況及び健全化判断比率'!BR14)
...

Sheet 普通会計の状況
DH1: 令和6年度 | DP1: 福島県富岡町
B2: (1) 普通会計の状況（市町村）
B3: 歳入の状況（単位 千円・％） | AP3: 地方税の状況（単位 千円・％） | CD3: 歳出の状況（単位 千円・％）
B4: 区分 | R4: 決算額 | Z4: 構成比 | AD4: 経常一般財源等 | AL4: 構成比 | AP4: 区分 | BG4: 収入済額 | BO4: 構成比 | BS4: 超過課税分 | CD4: 目的別歳出の状況（単位 千円・％）
B5: 地方税 | R5: 2228415 | Z5: 14.7 | AD5: 2228415 | AL5: 52.6 | AP5: 普通税 | BG5: 2228415 | BO5: 100 | BS5: - | CD5: 区分 | CR5: 決算額 (A) | CZ5: 構成比 | DD5: (A)のうち普通建設事業費 | DQ5: (A)のうち充当一般財源等
B6: 地方譲与税 | R6: 77774 | Z6: 0.5 | AD6: 77774 | AL6: 1.8 | AP6: 法定普通税 | BG6: 2228415 | BO6: 100 | BS6: - | CD6: 議会費 | CR6: 77409 | CZ6: 0.6 | DD6: - | DQ6: 77409
B7: 利子割交付金 | R7: 671 | Z7: 0 | AD7: 671 | AL7: 0 | AP7: 市町村民税 | BG7: 765141 | BO7: 34.3 | BS7: - | CD7: 総務費 | CR7: 4192252 | CZ7: 30.2 | DD7: 23908 | DQ7: 2589648
B8: 配当割交付金 | R8: 10661 | Z8: 0.1 | AD8: 10661 | AL8: 0.3 | AP8: 個人均等割 | BG8: 17047 | BO8: 0.8 | BS8: - | CD8: 民生費 | CR8: 2170188 | CZ8: 15.6 | DD8: 4681 | DQ8: 1339564
B9: 株式等譲渡所得割交付金 | R9: 13730 | Z9: 0.1 | AD9: 13730 | AL9: 0.3 | AP9: 所得割 | BG9: 586741 | BO9: 26.3 | BS9: - | CD9: 衛生費 | CR9: 1402677 | CZ9: 10.1 | DD9: 2798 | DQ9: 344037
B10: 分離課税所得割交付金 | R10: - | Z10: - | AD10: - | AL10: - | AP10: 法人均等割 | BG10: 55126 | BO10: 2.5 | BS10: - | CD10: 労働費 | CR10: 1330 | CZ10: 0 | DD10: - | DQ10: 1330
B11: 地方消費税交付金 | R11: 339109 | Z11: 2.2 | AD11: 339109 | AL11: 8 | AP11: 法人税割 | BG11: 106227 | BO11: 4.8 | BS11: - | CD11: 農林水産業費 | CR11: 2383318 | CZ11: 17.2 | DD11: 1685416 | DQ11: 1378660
B12: ゴルフ場利用税交付金 | R12: - | Z12: - | AD12: - | AL12: - | AP12: 固定資産税 | BG12: 1361383 | BO12: 61.1 | BS12: - | CD12: 商工費 | CR12: 769991 | CZ12: 5.5 | DD12: 133135 | DQ12: 252777
B13: 自動車取得税交付金 | R13: - | Z13: - | AD13: - | AL13: - | AP13: うち純固定資産税 | BG13: 1358721 | BO13: 61 | BS13: - | CD13: 土木費 | CR13: 976553 | CZ13: 7 | DD13: 202433 | DQ13: 686180
B14: 軽油引取税交付金 | R14: - | Z14: - | AD14: - | AL14: - | AP14: 軽自動車税 | BG14: 25214 | BO14: 1.1 | BS14: - | CD14: 消防費 | CR14: 743379 | CZ14: 5.4 | DD14: 52610 | DQ14: 142495
B15: 自動車税環境性能割交付金 | R15: 6188 | Z15: 0 | AD15: 6188 | AL15: 0.1 | AP15: 市町村たばこ税 | BG15: 76677 | BO15: 3.4 | BS15: - | CD15: 教育費 | CR15: 934115 | CZ15: 6.7 | DD15: 67155 | DQ15: 507974
B16: 法人事業税交付金 | R16: 33610 | Z16: 0.2 | AD16: 33610 | AL16: 0.8 | AP16: 鉱産税 | BG16: - | BO16: - | BS16: - | CD16: 災害復旧費 | CR16: 189060 | CZ16: 1.4 | DD16: - | DQ16: 167326
B17: 地方特例交付金等 | R17: 51474 | Z17: 0.3 | AD17: 51474 | AL17: 1.2 | AP17: 特別土地保有税 | BG17: - | BO17: - | BS17: - | CD17: 公債費 | CR17: 45323 | CZ17: 0.3 | DD17: - | DQ17: 45323
B18: 住宅借入金等特別税額控除減収補塡特例交付金 | R18: 4698 | Z18: 0 | AD18: 4698 | AL18: 0.1 | AP18: 法定外普通税 | BG18: - | BO18: - | BS18: - | CD18: 諸支出金 | CR18: - | CZ18: - | DD18: - | DQ18: -
B19: 定額減税減収補塡特例交付金 | R19: 46776 | Z19: 0.3 | AD19: 46776 | AL19: 1.1 | AP19: 目的税 | BG19: - | BO19: - | BS19: - | CD19: 前年度繰上充用金 | CR19: - | CZ19: - | DD19: - | DQ19: -
B20: 新型コロナウイルス感染症対策地方税減収補塡特別交付金 | R20: - | Z20: - | AD20: - | AL20: - | AP20: 法定目的税 | BG20: - | BO20: - | BS20: - | CD20: 歳出合計 | CR20: 13885595 | CZ20: 100 | DD20: 2172136 | DQ20: 7532723
B21: 地方交付税 | R21: 2551945 | Z21: 16.9 | AD21: 1447685 | AL21: 34.2 | AP21: 入湯税 | BG21: - | BO21: - | BS21: -
B22: 普通交付税 | R22: 1447685 | Z22: 9.6 | AD22: 1447685 | AL22: 34.2 | AP22: 事業所税 | BG22: - | BO22: - | BS22: - | CD22: 性質別歳出の状況（単位 千円・％）
B23: 特別交付税 | R23: 82707 | Z23: 0.5 | AD23: - | AL23: - | AP23: 都市計画税 | BG23: - | BO23: - | BS23: - | CD23: 区分 | CR23: 決算額 | CZ23: 構成比 | DD23: 充当一般財源等 | DL23: 経常経費充当一般財源等 | DW23: 経常収支比率
B24: 震災復興特別交付税 | R24: 1021553 | Z24: 6.8 | AD24: - | AL24: - | AP24: 水利地益税等 | BG24: - | BO24: - | BS24: - | CD24: 義務的経費計 | CR24: 2333920 | CZ24: 16.8 | DD24: 1719038 | DL24: 1447459 | DW24: 34.2
B25: (一般財源計) | R25: 5313577 | Z25: 35.1 | AD25: 4209317 | AL25: 99.4 | AP25: 法定外目的税 | BG25: - | BO25: - | BS25: - | CD25: 人件費 | CR25: 1545563 | CZ25: 11.1 | DD25: 1359085 | DL25: 1261222 | DW25: 29.8
B26: 交通安全対策特別交付金 | R26: 545 | Z26: 0 | AD26: 545 | AL26: 0 | AP26: 旧法による税 | BG26: - | BO26: - | BS26: - | CD26: うち職員給 | CR26: 1035131 | CZ26: 7.5 | DD26: 947550 | DL26: - | DW26: -
B27: 分担金・負担金 | R27: 6221 | Z27: 0 | AD27: - | AL27: - | AP27: 合計 | BG27: 2228415 | BO27: 100 | BS27: - | CD27: 扶助費 | CR27: 743034 | CZ27: 5.4 | DD27: 314630 | DL27: 140914 | DW27: 3.3
B28: 使用料 | R28: 113934 | Z28: 0.8 | AD28: 18888 | AL28: 0.4 | CD28: 公債費 | CR28: 45323 | CZ28: 0.3 | DD28: 45323 | DL28: 45323 | DW28: 1.1
B29: 手数料 | R29: 7357 | Z29: 0 | AD29: - | AL29: - | CD29: 内訳 | CF29: 元利償還金 | CR29: 45323 | CZ29: 0.3 | DD29: 45323 | DL29: 45323 | DW29: 1.1
B30: 国庫支出金 | R30: 4114836 | Z30: 27.2 | AD30: - | AL30: - | AP30: 区分 | BG30: 令和6年度 | BR30: 令和5年度 | CF30: うち元金 | CR30: 38316 | CZ30: 0.3 | DD30: 38316 | DL30: 38316 | DW30: 0.9
B31: 国有提供交付金(特別区財調交付金) | R31: - | Z31: - | AD31: - | AL31: - | AP31: 徴収率 (％) | AT31: 現年 | AX31: 合計 | BG31: 99.8 | BM31: 99.1 | BR31: 99.8 | BX31: 98.7 | CF31: うち利子 | CR31: 7007 | CZ31: 0.1 | DD31: 7007 | DL31: 7007 | DW31: 0.2
B32: 都道府県支出金 | R32: 667593 | Z32: 4.4 | AD32: - | AL32: - | AU32: ・計 | AX32: 市町村民税 | BG32: 99.6 | BM32: 98.2 | BR32: 99.7 | BX32: 97.6 | CF32: 一時借入金利子 | CR32: - | CZ32: - | DD32: - | DL32: - | DW32: -
B33: 財産収入 | R33: 83765 | Z33: 0.6 | AD33: 2327 | AL33: 0.1 | AX33: 純固定資産税 | BG33: 99.9 | BM33: 99.5 | BR33: 99.9 | BX33: 99.3 | CD33: その他の経費 | CR33: 9190479 | CZ33: 66.2 | DD33: 4269035 | DL33: 1934428 | DW33: 45.7
B34: 寄附金 | R34: 49353 | Z34: 0.3 | AD34: - | AL34: - | CD34: 物件費 | CR34: 2823612 | CZ34: 20.3 | DD34: 1226992 | DL34: 909158 | DW34: 21.5
B35: 繰入金 | R35: 3682786 | Z35: 24.4 | AD35: - | AL35: - | AQ35: 公営事業等への繰出 | BG35: 国民健康保険事業会計の状況 | CD35: 維持補修費 | CR35: 462891 | CZ35: 3.3 | DD35: 207299 | DL35: 168808 | DW35: 4
B36: 繰越金 | R36: 653809 | Z36: 4.3 | AD36: - | AL36: - | AQ36: 合計 | AZ36: 1206875 | BG36: 実質収支 | BV36: 122203 | CD36: 補助費等 | CR36: 2244278 | CZ36: 16.2 | DD36: 618326 | DL36: 282057 | DW36: 6.7
B37: 諸収入 | R37: 424755 | Z37: 2.8 | AD37: 4429 | AL37: 0.1 | AQ37: 下水道 | AZ37: 487175 | BG37: 再差引収支 | BV37: 122203 | CD37: うち一部事務組合負担金 | CR37: 892196 | CZ37: 6.4 | DD37: 135210 | DL37: 127536 | DW37: 3
B38: 地方債 | R38: - | Z38: - | AD38: - | AL38: - | AQ38: 工業用水道 | AZ38: 15873 | BG38: 加入世帯数(世帯) | BV38: 2138 | CD38: 繰出金 | CR38: 1178485 | CZ38: 8.5 | DD38: 999726 | DL38: 574405 | DW38: 13.6
B39: うち減収補塡債(特例分) | R39: - | Z39: - | AD39: - | AL39: - | AQ39: 上水道 | AZ39: 12517 | BG39: 被保険者数(人) | BV39: 3304 | CD39: 積立金 | CR39: 2400213 | CZ39: 17.3 | DD39: 1216692 | DL39: - | DW39: -
B40: うち臨時財政対策債 | R40: - | Z40: - | AD40: - | AL40: - | AQ40: 宅地造成 | AZ40: 3145 | BG40: 被保険者 1人当り | BM40: 保険税(料)収入額 | BV40: 11 | CD40: 投資・出資金・貸付金 | CR40: 81000 | CZ40: 0.6 | DD40: - | DL40: - | DW40: -
...

Sheet 各会計、関係団体の財政状況及び健全化判断比率
A2: (2)各会計、関係団体の財政状況及び健全化判断比率（市町村） | DJ2: 令和6年度 | DQ2: 福島県富岡町
A4: 一般会計等の財政状況（単位：百万円） | BQ4: 地方公社・第三セクター等の経営状況及び地方公共団体の財政的支援の状況（単位：百万円）
A5: 会計名 | Q5: 歳入 | V5: 歳出 | AA5: 形式収支 | AF5: 実質収支 | AK5: 他会計等 からの 繰入金 | AP5: 地方債 現在高 | AU5: 備考 | BQ5: 地方公社・第三セクター等名 | CH5: 経常損益 | CM5: 純資産又は 正味財産 | CR5: 当該団体 からの 出資金 | CW5: 当該団体 からの 補助金 | DB5: 当該団体 からの 貸付金 | DG5: 当該団体からの債務保証に係る債務残高 | DL5: 当該団体からの損失補償に係る債務残高 | DQ5: 一般会計等 負担見込額 | DV5: 備考
A7: 1 | B7: 一般会計 | Q7: 15136 | V7: 13903 | AA7: 1233 | AF7: 514 | AK7: 15 | AP7: 369 | BQ7: 1 | BS7: （一社）富岡新エネルギー | CH7: 0 | CM7: 3 | CR7: 1 | CW7: - | DB7: - | DG7: - | DL7: - | DQ7: -
A8: 2 | BQ8: 2
A9: 3 | BQ9: 3
A10: 4 | BQ10: 4
A11: 5 | BQ11: 5
A12: 6 | BQ12: 6
A13: 7 | BQ13: 7
A14: 8 | BQ14: 8
A15: 9 | BQ15: 9
A16: 10 | BQ16: 10
A17: 11 | BQ17: 11
A18: 12 | BQ18: 12
A19: 13 | BQ19: 13
... A21: 15 | BQ21: 15
A22: 16 | AZ22: 実質赤字額 | BQ22: 16
A23: 計 | B23: 一般会計等（純計） | Q23: 15136 | V23: 13903 | AA23: 1233 | AF23: 514 | AP23: 369 | AZ23: - | BQ23: 17
A24: ※一般会計等（純計）は、各会計の相互間の繰入・繰出等の重複を控除したものであり、各会計の合計と一致しない場合がある。 | BQ24: 18
A25: 公営企業会計等の財政状況（単位：百万円） | BQ25: 19
A26: 会計名 | Q26: 総収益 （歳入） | V26: 総費用 （歳出） | AA26: 純損益 （形式収支） | AF26: 資金剰余額 /不足額 （実質収支） | AK26: 他会計等 からの 繰入金 | AP26: 企業債 （地方債） 現在高 | AU26: 左のうち 一般会計等 繰入見込額 | AZ26: 資金不足 比率 | BE26: 備考 | BQ26: 20
BQ27: 21
A28: 1 | B28: 国民健康保険事業特別会計 | Q28: 2329 | V28: 2206 | AA28: 122 | AF28: 122 | AK28: 194 | AP28: - | AU28: - | AZ28: - | BQ28: 22
A29: 2 | B29: 介護保険事業特別会計 | Q29: 1657 | V29: 1579 | AA29: 78 | AF29: 78 | AK29: 308 | AP29: - | AU29: - | AZ29: - | BQ29: 23
A30: 3 | B30: 後期高齢者医療特別会計 | Q30: 62 | V30: 61 | AA30: 0 | AF30: 0 | AK30: - | AP30: - | AU30: - | AZ30: - | BQ30: 24
A31: 4 | B31: 介護サービス事業特別会計 | Q31: 11 | V31: 10 | AA31: 1 | AF31: 1 | AK31: 5 | AP31: - | AU31: - | AZ31: - | BQ31: 25
A32: 5 | B32: 公共下水道事業特別会計 | Q32: 455 | V32: 375 | AA32: 80 | AF32: 80 | AK32: 328 | AP32: 524 | AU32: 524 | AZ32: - | BE32: 法非適用企業 | BQ32: 26
A33: 6 | B33: 農業集落排水事業特別会計 | Q33: 169 | V33: 159 | AA33: 11 | AF33: 11 | AK33: 159 | AP33: 254 | AU33: 254 | AZ33: - | BE33: 法非適用企業 | BQ33: 27
A34: 7 | BQ34: 28
A35: 8 | BQ35: 29
A36: 9 | BQ36: 30
A37: 10 | BQ37: 31
A38: 11 | BQ38: 32
A39: 12 | BQ39: 33
A40: 13 | BQ40: 34
A41: 14 | BQ41: 35
A42: 15 | BQ42: 36
A43: 16 | BQ43: 37
A44: 17 | BQ44: 38
...

Sheet 財政比較分析表

Sheet 経常経費分析表（経常収支比率の分析）

Sheet 経常経費分析表（人件費・公債費・普通建設事業費の分析）
A5: 人件費及び人件費に準ずる費用の分析
AK6: 人件費及び人件費に準ずる費用
AO7: 当該団体決算額 （千円） | AQ7: 人口1人当たり決算額
AP8: 当該団体（円） | AQ8: 類似団体平均（円） | AR8: 対比（％）
AK9: 人件費 | AO9: 1545563 | AP9: 136582 | AQ9: 239935 | AR9: -43.1
AK10: 一部事務組合負担金（補助費等） | AO10: 208552 | AP10: 18430 | AQ10: 33021 | AR10: -44.2
AK11: 公営企業（法適）等に対する繰出し（補助費等） | AO11: - | AP11: - | AQ11: 2306 | AR11: -
AK12: 公営企業（法適）等に対する繰出し（投資及び出資金・貸付金） | AO12: - | AP12: - | AQ12: - | AR12: -
AK13: 公営企業（法非適）等に対する繰出し（繰出金） | AO13: 157571 | AP13: 13925 | AQ13: 7428 | AR13: 87.5
AK14: 事業費支弁に係る職員の人件費（投資的経費） | AO14: 62866 | AP14: 5555 | AQ14: 4299 | AR14: 29.2
AK15: ▲退職金 | AO15: -101223 | AP15: -8945 | AQ15: -13612 | AR15: -34.3
AK16: 合計 | AO16: 1873329 | AP16: 165547 | AQ16: 273378 | AR16: -39.4
AK19: 参考
AO20: 当該団体 | AP20: 類似団体平均 | AQ20: 対比（差引）
AK21: 人口1,000人当たり職員数（人） | AO21: 13.17 | AP21: 21.68 | AQ21: -8.51
AK22: ラスパイレス指数 | AO22: 98.3 | AP22: 95.1 | AQ22: 3.2
A26: （注）人口については、各調査対象年度の1月1日現在の住民基本台帳に登載されている人口に基づいている。
A28: 公債費及び公債費に準ずる費用の分析
AK29: 公債費及び公債費に準ずる費用（実質公債費比率の構成要素）
AO30: 当該団体決算額 （千円） | AQ30: 人口1人当たり決算額
AP31: 当該団体（円） | AQ31: 類似団体平均（円） | AR31: 対比（％）
AK32: 元利償還金の額 （繰上償還額等を除く） | AO32: 45323 | AP32: 4005 | AQ32: 143519 | AR32: -97.2
AK33: 積立不足額を考慮して算定した額 | AO33: - | AP33: - | AQ33: - | AR33: -
AK34: 満期一括償還地方債の一年当たりの元金償還金に相当するもの （年度割相当額） | AO34: - | AP34: - | AQ34: - | AR34: -
AK35: 公営企業に要する経費の財源とする地方債の償還の財源に 充てたと認められる繰入金 | AO35: 214630 | AP35: 18967 | AQ35: 32537 | AR35: -41.7
AK36: 一部事務組合等の起こした地方債に充てたと認められる 補助金又は負担金 | AO36: 19695 | AP36: 1740 | AQ36: 3256 | AR36: -46.6
AK37: 公債費に準ずる債務負担行為に係るもの | AO37: 185910 | AP37: 16429 | AQ37: 244 | AR37: 6633.2
AK38: 一時借入金利子 （同一団体における会計間の現金運用に係る利子は除く） | AO38: - | AP38: - | AQ38: 45 | AR38: -
AK39: ▲特定財源の額 | AO39: - | AP39: - | AQ39: -3310 | AR39: -
AK40: ▲地方債に係る元利償還金及び準元利償還金に要する経費として 普通交付税の額の算定に用いる基準財政需要額に算入された額 | AO40: -462213 | AP40: -40846 | AQ40: -131495 | AR40: -68.9
AK41: 合計 | AO41: 3345 | AP41: 296 | AQ41: 44796 | AR41: -99.3
A47: （参考） 普通建設事業費の分析
AK48: 普通建設事業費
AM49: 当該団体決算額 （千円） | AN49: 人口１人当たり決算額
AN50: 当該団体(円) | AO50: 増減率(%)(A) | AP50: 類似団体平均(円) | AQ50: 増減率(%)(B) | AR50: (A)-(B)
AK51: R02 | AM51: 7093409 | AN51: 573251 | AO51: 84.9 | AP51: 301035 | AQ51: 12.2 | AR51: 72.7
AL52: うち単独分 | AM52: 371762 | AN52: 30044 | AO52: -40.8 | AP52: 154376 | AQ52: 29.1 | AR52: -69.9
AK53: R03 | AM53: 7433423 | AN53: 617240 | AO53: 7.7 | AP53: 330026 | AQ53: 9.6 | AR53: -1.9
AL54: うち単独分 | AM54: 1197639 | AN54: 99447 | AO54: 231 | AP54: 141075 | AQ54: -8.6 | AR54: 239.6
AK55: R04 | AM55: 1807194 | AN55: 153987 | AO55: -75.1 | AP55: 278179 | AQ55: -15.7 | AR55: -59.4
...

Sheet 性質別歳出決算分析表（住民一人当たりのコスト）

Sheet 目的別歳出決算分析表（住民一人当たりのコスト）

Sheet 実質収支比率等に係る経年分析
J45: 標準財政規模比（％）
B46: 区分 | E46: 年度 | F46: R02 | G46: R03 | H46: R04 | I46: R05 | J46: R06
C47: 財政調整基金残高 | F47: 142.28 | G47: 149.53 | H47: 174.9 | I47: 181.99 | J47: 155.67
C48: 実質収支額 | F48: 14.78 | G48: 29.57 | H48: 23.82 | I48: 14.29 | J48: 11.81
C49: 実質単年度収支 | F49: ▲ 71.11 | G49: 25.39 | H49: ▲ 10.22 | I49: ▲ 10.78 | J49: ▲ 31.42

Sheet 連結実質赤字比率に係る赤字・黒字の構成分析
J32: 標準財政規模比（％）
B33: 会計 | E33: 年度 | F33: R02 | G33: R03 | H33: R04 | I33: R05 | J33: R06
C34: 一般会計 | F34: 13.38 | G34: 29.49 | H34: 23.82 | I34: 14.28 | J34: 11.8
C35: 国民健康保険事業特別会計 | F35: 4.49 | G35: 4.2 | H35: 6.92 | I35: 5.27 | J35: 2.8
C36: 介護保険事業特別会計 | F36: 2.36 | G36: 1.58 | H36: 1.96 | I36: 0.59 | J36: 1.78
C37: 農業集落排水事業特別会計 | F37: 0.22 | G37: 0.13 | H37: 0.23 | I37: 0.09 | J37: 0.25
C38: 公共下水道事業特別会計 | F38: 0.35 | G38: 0.17 | H38: 0.32 | I38: 0.27 | J38: 0.18
C39: 介護サービス事業特別会計 | F39: 0.02 | G39: 0.01 | H39: 0.01 | I39: 0.01 | J39: 0.01
C40: 後期高齢者医療特別会計 | F40: 0.03 | G40: 0.11 | H40: 0.01 | I40: 0.02 | J40: 0
C42: その他会計（赤字） | F42: - | G42: ▲ 1.32 | H42: - | I42: - | J42: -
C43: その他会計（黒字） | F43: 0 | G43: - | H43: 0 | I43: - | J43: -

Sheet 実質公債費比率（分子）の構造
O43: （百万円）
B44: 分子の構造 | J44: 年度 | K44: R02 | L44: R03 | M44: R04 | N44: R05 | O44: R06
B45: 元利償還金等(A) | E45: 元利償還金 | K45: 91 | L45: 88 | M45: 78 | N45: 65 | O45: 45
E46: 減債基金積立不足算定額※2 | K46: - | L46: - | M46: - | N46: - | O46: -
E47: 満期一括償還地方債に係る年度割相当額 | K47: - | L47: - | M47: - | N47: - | O47: -
E48: 公営企業債の元利償還金に対する繰入金 | K48: 425 | L48: 70 | M48: 296 | N48: 238 | O48: 215
E49: 組合等が起こした地方債の元利償還金に対する負担金等 | K49: 18 | L49: 25 | M49: 25 | N49: 24 | O49: 20
E50: 債務負担行為に基づく支出額 | K50: 124 | L50: 124 | M50: 124 | N50: 124 | O50: 186
E51: 一時借入金の利子 | K51: - | L51: - | M51: - | N51: - | O51: -
B52: 算入公債費等(B) | E52: 算入公債費等 | K52: 603 | L52: 569 | M52: 523 | N52: 496 | O52: 462
B53: (A)－(B) | E53: 実質公債費比率の分子 | K53: 55 | L53: -262 | M53: 0 | N53: -45 | O53: 4
B54: ※ 減債基金積立不足算定額=(C)×(１－(D)/(E))
B56: （参考） | O56: （百万円）
J57: 年度 | K57: R02 | L57: R03 | M57: R04 | N57: R05 | O57: R06
B58: 減債基金 積立状況等（注） | D58: 満期一括償還地方債に係る実質償還額又は理論償還額のいずれか少ない額(C)
D59: 前年度末減債基金残高(D)
D60: 前年度末減債基金積立相当額(E)
D61: （注）減債基金のうち、実質公債費比率の算定に用いる満期一括償還地方債の償還の財源に係るもののみを記入。
D62: 減債基金積立金の年度を超えた一般会計又は特別会計への貸付額は控除して記入。

Sheet 将来負担比率（分子）の構造
M39: （百万円）
B40: 分子の構造 | H40: 年度 | I40: R02 | J40: R03 | K40: R04 | L40: R05 | M40: R06
B41: 将来負担額(A) | E41: 一般会計等に係る地方債の現在高 | I41: 604 | J41: 537 | K41: 456 | L41: 407 | M41: 369
E42: 債務負担行為に基づく支出予定額 | I42: 1251 | J42: 1068 | K42: 915 | L42: 775 | M42: 928
E43: 公営企業債等繰入見込額 | I43: 1742 | J43: 1483 | K43: 1216 | L43: 983 | M43: 778
E44: 組合等負担等見込額 | I44: 91 | J44: 77 | K44: 62 | L44: 48 | M44: 34
E45: 退職手当負担見込額 | I45: 417 | J45: 439 | K45: 378 | L45: 276 | M45: 383
E46: 設立法人等の負債額等負担見込額 | I46: - | J46: - | K46: - | L46: - | M46: -
E47: うち、健全化法施行規則附則第三条に係る負担見込額 | I47: - | J47: - | K47: - | L47: - | M47: -
E48: 連結実質赤字額 | I48: - | J48: - | K48: - | L48: - | M48: -
E49: 組合等連結実質赤字額負担見込額 | I49: - | J49: - | K49: - | L49: - | M49: -
B50: 充当可能財源等(B) | E50: 充当可能基金 | I50: 12940 | J50: 12959 | K50: 12656 | L50: 15640 | M50: 13689
E51: 充当可能特定歳入 | I51: - | J51: - | K51: - | L51: - | M51: -
E52: 基準財政需要額算入見込額 | I52: 4904 | J52: 4786 | K52: 4459 | L52: 4038 | M52: 3632
B53: (A)－(B) | E53: 将来負担比率の分子 | I53: -13740 | J53: -14141 | K53: -14087 | L53: -17189 | M53: -14830

Sheet 基金残高に係る経年分析
H53: （百万円）
B54: 区分 | E54: 年度 | F54: R04 | G54: R05 | H54: R06
C55: 財政調整基金 | F55: 7312 | G55: 7742 | H55: 6773
C56: 減債基金 | F56: 284 | G56: 284 | H56: 284
C57: その他特定目的基金 | F57: 13322 | G57: 15202 | H57: 15210
C58: 町勢振興基金 | F58: 5344 | G58: 7898 | H58: 6917
C59: 特定廃棄物埋立処分事業地域振興交付金基金 | F59: 4145 | G59: 3622 | H59: 3379
C60: 公共用施設維持運営基金 | F60: 979 | G60: 1408 | H60: 2094
C61: 公共用施設整備基金 | F61: 850 | G61: 835 | H61: 806
C62: 福島再生加速化交付金基金 | F62: 335 | G62: 227 | H62: 788
C63: 基金残高合計 | F63: 20918 | G63: 23228 | H63: 22267

Sheet 公会計指標分析・財政指標組合せ分析表
B41: 将来負担比率及び有形固定資産減価償却率の組合せによる分析
AN42: 分析欄
AN43: 将来負担比率は、地方債の新規発行を抑制してきた結果、将来負担額を充当可能財源が上回っているため指数なしとなっている。財政状況を分析しながら、可能な限り新規借入の抑制を継続していく予定であり、今後も将来負担比率は指数なしが続く見込である。有形固定資産減価償却率は、類似団体平均より低いものの、個別にみると減価償却が進んでいる建物が存在するため、公共施設等総合管理計画の方針に基づいて適切な施設の維持管理に取り組んでいく。
AN49: ( 参考 ）
BP50: R02 | BX50: R03 | CF50: R04 | CN50: R05 | CV50: R06
AN51: 当該団体値 | BB51: 将来負担比率
BB53: 有形固定資産減価償却率 | BP53: 57.7 | BX53: 57.1 | CF53: 56.6 | CN53: 57 | CV53: 59.3
AN55: 類似団体内平均値 | BB55: 将来負担比率 | BP55: 0 | BX55: 0 | CF55: 0 | CN55: 0 | CV55: 0
BB57: 有形固定資産減価償却率 | BP57: 61 | BX57: 62.9 | CF57: 62.9 | CN57: 64.3 | CV57: 65.8
B63: 将来負担比率及び実質公債費比率の組合せによる分析
AN64: 分析欄
AN65: 将来負担比率は、指数なしとなっている。実質公債費比率は令和６年度に県営かんがい排水事業に関する一部分を一括償還したことにより増加となった。将来世代の負担軽減及び財政健全化のために新規借入の抑制に取り組んでおり、多額の新規借入予定はないことから、今後も将来負担比率は指数なし、実質公債費比率は大幅な増にならない見込み。
AN71: ( 参考 ）
BP72: R02 | BX72: R03 | CF72: R04 | CN72: R05 | CV72: R06
AN73: 当該団体値 | BB73: 将来負担比率
BB75: 実質公債費比率 | BP75: 2.3 | BX75: -0.8 | CF75: -1.7 | CN75: -2.6 | CV75: -0.3
AN77: 類似団体内平均値 | BB77: 将来負担比率 | BP77: 0 | BX77: 0 | CF77: 0 | CN77: 0 | CV77: 0
BB79: 実質公債費比率 | BP79: 7.4 | BX79: 6.1 | CF79: 6.3 | CN79: 6.7 | CV79: 6.6

Sheet 施設累計型別ストック情報分析表①

Sheet 施設累計型別ストック情報分析表②

Sheet データシート
D2: 当該団体(円) | F2: 類似団体内平均(円)
A3: R02 | D3: 573251 | F3: 301035
D4: 30044 | F4: 154376
A5: R03 | D5: 617240 | F5: 330026
D6: 99447 | F6: 141075
A7: R04 | D7: 153987 | F7: 278179
D8: 41447 | F8: 122182
A9: R05 | D9: 388099 | F9: 283153
D10: 86036 | F10: 127593
A11: R06 | D11: 191953 | F11: 262169
D12: 120815 | F12: 152658
D13: 384906 | F13: 290912
D14: 75558 | F14: 139577
A17: 実質収支比率等に係る経年分析
B18: =実質収支比率等に係る経年分析!F$46 -> R02 | C18: =実質収支比率等に係る経年分析!G$46 -> R03 | D18: =実質収支比率等に係る経年分析!H$46 -> R04 | E18: =実質収支比率等に係る経年分析!I$46 -> R05 | F18: =実質収支比率等に係る経年分析!J$46 -> R06
A19: 実質収支額 | B19: =ROUND(VALUE(SUBSTITUTE(実質収支比率等に係る経年分析!F$48,"▲","-")),2) -> 14.78 | C19: =ROUND(VALUE(SUBSTITUTE(実質収支比率等に係る経年分析!G$48,"▲","-")),2) -> 29.57 | D19: =ROUND(VALUE(SUBSTITUTE(実質収支比率等に係る経年分析!H$48,"▲","-")),2) -> 23.82 | E19: =ROUND(VALUE(SUBSTITUTE(実質収支比率等に係る経年分析!I$48,"▲","-")),2) -> 14.29 | F19: =ROUND(VALUE(SUBSTITUTE(実質収支比率等に係る経年分析!J$48,"▲","-")),2) -> 11.81
A20: 財政調整基金残高 | B20: =ROUND(VALUE(SUBSTITUTE(実質収支比率等に係る経年分析!F$47,"▲","-")),2) -> 142.28 | C20: =ROUND(VALUE(SUBSTITUTE(実質収支比率等に係る経年分析!G$47,"▲","-")),2) -> 149.53 | D20: =ROUND(VALUE(SUBSTITUTE(実質収支比率等に係る経年分析!H$47,"▲","-")),2) -> 174.9 | E20: =ROUND(VALUE(SUBSTITUTE(実質収支比率等に係る経年分析!I$47,"▲","-")),2) -> 181.99 | F20: =ROUND(VALUE(SUBSTITUTE(実質収支比率等に係る経年分析!J$47,"▲","-")),2) -> 155.67
A21: 実質単年度収支 | B21: =IF(ISNUMBER(VALUE(SUBSTITUTE(実質収支比率等に係る経年分析!F$49,"▲","-"))),ROUND(VALUE(SUBSTITUTE(実質収支比率等に係る経年分析!F$49,"▲","-")),2),NA()) -> -71.11 | C21: =IF(ISNUMBER(VALUE(SUBSTITUTE(実質収支比率等に係る経年分析!G$49,"▲","-"))),ROUND(VALUE(SUBSTITUTE(実質収支比率等に係る経年分析!G$49,"▲","-")),2),NA()) -> 25.39 | D21: =IF(ISNUMBER(VALUE(SUBSTITUTE(実質収支比率等に係る経年分析!H$49,"▲","-"))),ROUND(VALUE(SUBSTITUTE(実質収支比率等に係る経年分析!H$49,"▲","-")),2),NA()) -> -10.22 | E21: =IF(ISNUMBER(VALUE(SUBSTITUTE(実質収支比率等に係る経年分析!I$49,"▲","-"))),ROUND(VALUE(SUBSTITUTE(実質収支比率等に係る経年分析!I$49,"▲","-")),2),NA()) -> -10.78 | F21: =IF(ISNUMBER(VALUE(SUBSTITUTE(実質収支比率等に係る経年分析!J$49,"▲","-"))),ROUND(VALUE(SUBSTITUTE(実質収支比率等に係る経年分析!J$49,"▲","-")),2),NA()) -> -31.42
A24: 連結実質赤字比率に係る赤字・黒字の構成分析
B25: =連結実質赤字比率に係る赤字・黒字の構成分析!F$33 -> R02 | D25: =連結実質赤字比率に係る赤字・黒字の構成分析!G$33 -> R03 | F25: =連結実質赤字比率に係る赤字・黒字の構成分析!H$33 -> R04 | H25: =連結実質赤字比率に係る赤字・黒字の構成分析!I$33 -> R05 | J25: =連結実質赤字比率に係る赤字・黒字の構成分析!J$33 -> R06
B26: 赤字額 | C26: 黒字額 | D26: 赤字額 | E26: 黒字額 | F26: 赤字額 | G26: 黒字額 | H26: 赤字額 | I26: 黒字額 | J26: 赤字額 | K26: 黒字額
A27: =IF(連結実質赤字比率に係る赤字・黒字の構成分析!C$43="",NA(),連結実質赤字比率に係る赤字・黒字の構成分析!C$43) -> その他会計（黒字） | B27: =IF(ROUND(VALUE(SUBSTITUTE(連結実質赤字比率に係る赤字・黒字の構成分析!F$43,"▲", "-")), 2) < 0, ABS(ROUND(VALUE(SUBSTITUTE(連結実質赤字比率に係る赤字・黒字の構成分析!F$43,"▲", "-")), 2)), NA()) -> #N/A | C27: =IF(ROUND(VALUE(SUBSTITUTE(連結実質赤字比率に係る赤字・黒字の構成分析!F$43,"▲", "-")), 2) >= 0, ABS(ROUND(VALUE(SUBSTITUTE(連結実質赤字比率に係る赤字・黒字の構成分析!F$43,"▲", "-")), 2)), NA()) -> 0 | D27: =IF(ROUND(VALUE(SUBSTITUTE(連結実質赤字比率に係る赤字・黒字の構成分析!G$43,"▲", "-")), 2) < 0, ABS(ROUND(VALUE(SUBSTITUTE(連結実質赤字比率に係る赤字・黒字の構成分析!G$43,"▲", "-")), 2)), NA()) -> #VALUE! | E27: =IF(ROUND(VALUE(SUBSTITUTE(連結実質赤字比率に係る赤字・黒字の構成分析!G$43,"▲", "-")), 2) >= 0, ABS(ROUND(VALUE(SUBSTITUTE(連結実質赤字比率に係る赤字・黒字の構成分析!G$43,"▲", "-")), 2)), NA()) -> #VALUE! | F27: =IF(ROUND(VALUE(SUBSTITUTE(連結実質赤字比率に係る赤字・黒字の構成分析!H$43,"▲", "-")), 2) < 0, ABS(ROUND(VALUE(SUBSTITUTE(連結実質赤字比率に係る赤字・黒字の構成分析!H$43,"▲", "-")), 2)), NA()) -> #N/A | G27: =IF(ROUND(VALUE(SUBSTITUTE(連結実質赤字比率に係る赤字・黒字の構成分析!H$43,"▲", "-")), 2) >= 0, ABS(ROUND(VALUE(SUBSTITUTE(連結実質赤字比率に係る赤字・黒字の構成分析!H$43,"▲", "-")), 2)), NA()) -> 0 | H27: =IF(ROUND(VALUE(SUBSTITUTE(連結実質赤字比率に係る赤字・黒字の構成分析!I$43,"▲", "-")), 2) < 0, ABS(ROUND(VALUE(SUBSTITUTE(連結実質赤字比率に係る赤字・黒字の構成分析!I$43,"▲", "-")), 2)), NA()) -> #VALUE! | I27: =IF(ROUND(VALUE(SUBSTITUTE(連結実質赤字比率に係る赤字・黒字の構成分析!I$43,"▲", "-")), 2) >= 0, ABS(ROUND(VALUE(SUBSTITUTE(連結実質赤字比率に係る赤字・黒字の構成分析!I$43,"▲", "-")), 2)), NA()) -> #VALUE! | J27: =IF(ROUND(VALUE(SUBSTITUTE(連結実質赤字比率に係る赤字・黒字の構成分析!J$43,"▲", "-")), 2) < 0, ABS(ROUND(VALUE(SUBSTITUTE(連結実質赤字比率に係る赤字・黒字の構成分析!J$43,"▲", "-")), 2)), NA()) -> #VALUE! | K27: =IF(ROUND(VALUE(SUBSTITUTE(連結実質赤字比率に係る赤字・黒字の構成分析!J$43,"▲", "-")), 2) >= 0, ABS(ROUND(VALUE(SUBSTITUTE(連結実質赤字比率に係る赤字・黒字の構成分析!J$43,"▲", "-")), 2)), NA()) -> #VALUE!
A28: =IF(連結実質赤字比率に係る赤字・黒字の構成分析!C$42="",NA(),連結実質赤字比率に係る赤字・黒字の構成分析!C$42) -> その他会計（赤字） | B28: =IF(ROUND(VALUE(SUBSTITUTE(連結実質赤字比率に係る赤字・黒字の構成分析!F$42,"▲", "-")), 2) < 0, ABS(ROUND(VALUE(SUBSTITUTE(連結実質赤字比率に係る赤字・黒字の構成分析!F$42,"▲", "-")), 2)), NA()) -> #VALUE! | C28: =IF(ROUND(VALUE(SUBSTITUTE(連結実質赤字比率に係る赤字・黒字の構成分析!F$42,"▲", "-")), 2) >= 0, ABS(ROUND(VALUE(SUBSTITUTE(連結実質赤字比率に係る赤字・黒字の構成分析!F$42,"▲", "-")), 2)), NA()) -> #VALUE! | D28: =IF(ROUND(VALUE(SUBSTITUTE(連結実質赤字比率に係る赤字・黒字の構成分析!G$42,"▲", "-")), 2) < 0, ABS(ROUND(VALUE(SUBSTITUTE(連結実質赤字比率に係る赤字・黒字の構成分析!G$42,"▲", "-")), 2)), NA()) -> 1.32 | E28: =IF(ROUND(VALUE(SUBSTITUTE(連結実質赤字比率に係る赤字・黒字の構成分析!G$42,"▲", "-")), 2) >= 0, ABS(ROUND(VALUE(SUBSTITUTE(連結実質赤字比率に係る赤字・黒字の構成分析!G$42,"▲", "-")), 2)), NA()) -> #N/A | F28: =IF(ROUND(VALUE(SUBSTITUTE(連結実質赤字比率に係る赤字・黒字の構成分析!H$42,"▲", "-")), 2) < 0, ABS(ROUND(VALUE(SUBSTITUTE(連結実質赤字比率に係る赤字・黒字の構成分析!H$42,"▲", "-")), 2)), NA()) -> #VALUE! | G28: =IF(ROUND(VALUE(SUBSTITUTE(連結実質赤字比率に係る赤字・黒字の構成分析!H$42,"▲", "-")), 2) >= 0, ABS(ROUND(VALUE(SUBSTITUTE(連結実質赤字比率に係る赤字・黒字の構成分析!H$42,"▲", "-")), 2)), NA()) -> #VALUE! | H28: =IF(ROUND(VALUE(SUBSTITUTE(連結実質赤字比率に係る赤字・黒字の構成分析!I$42,"▲", "-")), 2) < 0, ABS(ROUND(VALUE(SUBSTITUTE(連結実質赤字比率に係る赤字・黒字の構成分析!I$42,"▲", "-")), 2)), NA()) -> #VALUE! | I28: =IF(ROUND(VALUE(SUBSTITUTE(連結実質赤字比率に係る赤字・黒字の構成分析!I$42,"▲", "-")), 2) >= 0, ABS(ROUND(VALUE(SUBSTITUTE(連結実質赤字比率に係る赤字・黒字の構成分析!I$42,"▲", "-")), 2)), NA()) -> #VALUE! | J28: =IF(ROUND(VALUE(SUBSTITUTE(連結実質赤字比率に係る赤字・黒字の構成分析!J$42,"▲", "-")), 2) < 0, ABS(ROUND(VALUE(SUBSTITUTE(連結実質赤字比率に係る赤字・黒字の構成分析!J$42,"▲", "-")), 2)), NA()) -> #VALUE! | K28: =IF(ROUND(VALUE(SUBSTITUTE(連結実質赤字比率に係る赤字・黒字の構成分析!J$42,"▲", "-")), 2) >= 0, ABS(ROUND(VALUE(SUBSTITUTE(連結実質赤字比率に係る赤字・黒字の構成分析!J$42,"▲", "-")), 2)), NA()) -> #VALUE!
A29: =IF(連結実質赤字比率に係る赤字・黒字の構成分析!C$41="",NA(),連結実質赤字比率に係る赤字・黒字の構成分析!C$41) -> #N/A | B29: =IF(ROUND(VALUE(SUBSTITUTE(連結実質赤字比率に係る赤字・黒字の構成分析!F$41,"▲", "-")), 2) < 0, ABS(ROUND(VALUE(SUBSTITUTE(連結実質赤字比率に係る赤字・黒字の構成分析!F$41,"▲", "-")), 2)), NA()) -> #VALUE! | C29: =IF(ROUND(VALUE(SUBSTITUTE(連結実質赤字比率に係る赤字・黒字の構成分析!F$41,"▲", "-")), 2) >= 0, ABS(ROUND(VALUE(SUBSTITUTE(連結実質赤字比率に係る赤字・黒字の構成分析!F$41,"▲", "-")), 2)), NA()) -> #VALUE! | D29: =IF(ROUND(VALUE(SUBSTITUTE(連結実質赤字比率に係る赤字・黒字の構成分析!G$41,"▲", "-")), 2) < 0, ABS(ROUND(VALUE(SUBSTITUTE(連結実質赤字比率に係る赤字・黒字の構成分析!G$41,"▲", "-")), 2)), NA()) -> #VALUE! | E29: =IF(ROUND(VALUE(SUBSTITUTE(連結実質赤字比率に係る赤字・黒字の構成分析!G$41,"▲", "-")), 2) >= 0, ABS(ROUND(VALUE(SUBSTITUTE(連結実質赤字比率に係る赤字・黒字の構成分析!G$41,"▲", "-")), 2)), NA()) -> #VALUE! | F29: =IF(ROUND(VALUE(SUBSTITUTE(連結実質赤字比率に係る赤字・黒字の構成分析!H$41,"▲", "-")), 2) < 0, ABS(ROUND(VALUE(SUBSTITUTE(連結実質赤字比率に係る赤字・黒字の構成分析!H$41,"▲", "-")), 2)), NA()) -> #VALUE! | G29: =IF(ROUND(VALUE(SUBSTITUTE(連結実質赤字比率に係る赤字・黒字の構成分析!H$41,"▲", "-")), 2) >= 0, ABS(ROUND(VALUE(SUBSTITUTE(連結実質赤字比率に係る赤字・黒字の構成分析!H$41,"▲", "-")), 2)), NA()) -> #VALUE! | H29: =IF(ROUND(VALUE(SUBSTITUTE(連結実質赤字比率に係る赤字・黒字の構成分析!I$41,"▲", "-")), 2) < 0, ABS(ROUND(VALUE(SUBSTITUTE(連結実質赤字比率に係る赤字・黒字の構成分析!I$41,"▲", "-")), 2)), NA()) -> #VALUE! | I29: =IF(ROUND(VALUE(SUBSTITUTE(連結実質赤字比率に係る赤字・黒字の構成分析!I$41,"▲", "-")), 2) >= 0, ABS(ROUND(VALUE(SUBSTITUTE(連結実質赤字比率に係る赤字・黒字の構成分析!I$41,"▲", "-")), 2)), NA()) -> #VALUE! | J29: =IF(ROUND(VALUE(SUBSTITUTE(連結実質赤字比率に係る赤字・黒字の構成分析!J$41,"▲", "-")), 2) < 0, ABS(ROUND(VALUE(SUBSTITUTE(連結実質赤字比率に係る赤字・黒字の構成分析!J$41,"▲", "-")), 2)), NA()) -> #VALUE! | K29: =IF(ROUND(VALUE(SUBSTITUTE(連結実質赤字比率に係る赤字・黒字の構成分析!J$41,"▲", "-")), 2) >= 0, ABS(ROUND(VALUE(SUBSTITUTE(連結実質赤字比率に係る赤字・黒字の構成分析!J$41,"▲", "-")), 2)), NA()) -> #VALUE!
A30: =IF(連結実質赤字比率に係る赤字・黒字の構成分析!C$40="",NA(),連結実質赤字比率に係る赤字・黒字の構成分析!C$40) -> 後期高齢者医療特別会計 | B30: =IF(ROUND(VALUE(SUBSTITUTE(連結実質赤字比率に係る赤字・黒字の構成分析!F$40,"▲", "-")), 2) < 0, ABS(ROUND(VALUE(SUBSTITUTE(連結実質赤字比率に係る赤字・黒字の構成分析!F$40,"▲", "-")), 2)), NA()) -> #N/A | C30: =IF(ROUND(VALUE(SUBSTITUTE(連結実質赤字比率に係る赤字・黒字の構成分析!F$40,"▲", "-")), 2) >= 0, ABS(ROUND(VALUE(SUBSTITUTE(連結実質赤字比率に係る赤字・黒字の構成分析!F$40,"▲", "-")), 2)), NA()) -> 0.03 | D30: =IF(ROUND(VALUE(SUBSTITUTE(連結実質赤字比率に係る赤字・黒字の構成分析!G$40,"▲", "-")), 2) < 0, ABS(ROUND(VALUE(SUBSTITUTE(連結実質赤字比率に係る赤字・黒字の構成分析!G$40,"▲", "-")), 2)), NA()) -> #N/A | E30: =IF(ROUND(VALUE(SUBSTITUTE(連結実質赤字比率に係る赤字・黒字の構成分析!G$40,"▲", "-")), 2) >= 0, ABS(ROUND(VALUE(SUBSTITUTE(連結実質赤字比率に係る赤字・黒字の構成分析!G$40,"▲", "-")), 2)), NA()) -> 0.11 | F30: =IF(ROUND(VALUE(SUBSTITUTE(連結実質赤字比率に係る赤字・黒字の構成分析!H$40,"▲", "-")), 2) < 0, ABS(ROUND(VALUE(SUBSTITUTE(連結実質赤字比率に係る赤字・黒字の構成分析!H$40,"▲", "-")), 2)), NA()) -> #N/A | G30: =IF(ROUND(VALUE(SUBSTITUTE(連結実質赤字比率に係る赤字・黒字の構成分析!H$40,"▲", "-")), 2) >= 0, ABS(ROUND(VALUE(SUBSTITUTE(連結実質赤字比率に係る赤字・黒字の構成分析!H$40,"▲", "-")), 2)), NA()) -> 0.01 | H30: =IF(ROUND(VALUE(SUBSTITUTE(連結実質赤字比率に係る赤字・黒字の構成分析!I$40,"▲", "-")), 2) < 0, ABS(ROUND(VALUE(SUBSTITUTE(連結実質赤字比率に係る赤字・黒字の構成分析!I$40,"▲", "-")), 2)), NA()) -> #N/A | I30: =IF(ROUND(VALUE(SUBSTITUTE(連結実質赤字比率に係る赤字・黒字の構成分析!I$40,"▲", "-")), 2) >= 0, ABS(ROUND(VALUE(SUBSTITUTE(連結実質赤字比率に係る赤字・黒字の構成分析!I$40,"▲", "-")), 2)), NA()) -> 0.02 | J30: =IF(ROUND(VALUE(SUBSTITUTE(連結実質赤字比率に係る赤字・黒字の構成分析!J$40,"▲", "-")), 2) < 0, ABS(ROUND(VALUE(SUBSTITUTE(連結実質赤字比率に係る赤字・黒字の構成分析!J$40,"▲", "-")), 2)), NA()) -> #N/A | K30: =IF(ROUND(VALUE(SUBSTITUTE(連結実質赤字比率に係る赤字・黒字の構成分析!J$40,"▲", "-")), 2) >= 0, ABS(ROUND(VALUE(SUBSTITUTE(連結実質赤字比率に係る赤字・黒字の構成分析!J$40,"▲", "-")), 2)), NA()) -> 0
A31: =IF(連結実質赤字比率に係る赤字・黒字の構成分析!C$39="",NA(),連結実質赤字比率に係る赤字・黒字の構成分析!C$39) -> 介護サービス事業特別会計 | B31: =IF(ROUND(VALUE(SUBSTITUTE(連結実質赤字比率に係る赤字・黒字の構成分析!F$39,"▲", "-")), 2) < 0, ABS(ROUND(VALUE(SUBSTITUTE(連結実質赤字比率に係る赤字・黒字の構成分析!F$39,"▲", "-")), 2)), NA()) -> #N/A | C31: =IF(ROUND(VALUE(SUBSTITUTE(連結実質赤字比率に係る赤字・黒字の構成分析!F$39,"▲", "-")), 2) >= 0, ABS(ROUND(VALUE(SUBSTITUTE(連結実質赤字比率に係る赤字・黒字の構成分析!F$39,"▲", "-")), 2)), NA()) -> 0.02 | D31: =IF(ROUND(VALUE(SUBSTITUTE(連結実質赤字比率に係る赤字・黒字の構成分析!G$39,"▲", "-")), 2) < 0, ABS(ROUND(VALUE(SUBSTITUTE(連結実質赤字比率に係る赤字・黒字の構成分析!G$39,"▲", "-")), 2)), NA()) -> #N/A | E31: =IF(ROUND(VALUE(SUBSTITUTE(連結実質赤字比率に係る赤字・黒字の構成分析!G$39,"▲", "-")), 2) >= 0, ABS(ROUND(VALUE(SUBSTITUTE(連結実質赤字比率に係る赤字・黒字の構成分析!G$39,"▲", "-")), 2)), NA()) -> 0.01 | F31: =IF(ROUND(VALUE(SUBSTITUTE(連結実質赤字比率に係る赤字・黒字の構成分析!H$39,"▲", "-")), 2) < 0, ABS(ROUND(VALUE(SUBSTITUTE(連結実質赤字比率に係る赤字・黒字の構成分析!H$39,"▲", "-")), 2)), NA()) -> #N/A | G31: =IF(ROUND(VALUE(SUBSTITUTE(連結実質赤字比率に係る赤字・黒字の構成分析!H$39,"▲", "-")), 2) >= 0, ABS(ROUND(VALUE(SUBSTITUTE(連結実質赤字比率に係る赤字・黒字の構成分析!H$39,"▲", "-")), 2)), NA()) -> 0.01 | H31: =IF(ROUND(VALUE(SUBSTITUTE(連結実質赤字比率に係る赤字・黒字の構成分析!I$39,"▲", "-")), 2) < 0, ABS(ROUND(VALUE(SUBSTITUTE(連結実質赤字比率に係る赤字・黒字の構成分析!I$39,"▲", "-")), 2)), NA()) -> #N/A | I31: =IF(ROUND(VALUE(SUBSTITUTE(連結実質赤字比率に係る赤字・黒字の構成分析!I$39,"▲", "-")), 2) >= 0, ABS(ROUND(VALUE(SUBSTITUTE(連結実質赤字比率に係る赤字・黒字の構成分析!I$39,"▲", "-")), 2)), NA()) -> 0.01 | J31: =IF(ROUND(VALUE(SUBSTITUTE(連結実質赤字比率に係る赤字・黒字の構成分析!J$39,"▲", "-")), 2) < 0, ABS(ROUND(VALUE(SUBSTITUTE(連結実質赤字比率に係る赤字・黒字の構成分析!J$39,"▲", "-")), 2)), NA()) -> #N/A | K31: =IF(ROUND(VALUE(SUBSTITUTE(連結実質赤字比率に係る赤字・黒字の構成分析!J$39,"▲", "-")), 2) >= 0, ABS(ROUND(VALUE(SUBSTITUTE(連結実質赤字比率に係る赤字・黒字の構成分析!J$39,"▲", "-")), 2)), NA()) -> 0.01
A32: =IF(連結実質赤字比率に係る赤字・黒字の構成分析!C$38="",NA(),連結実質赤字比率に係る赤字・黒字の構成分析!C$38) -> 公共下水道事業特別会計 | B32: =IF(ROUND(VALUE(SUBSTITUTE(連結実質赤字比率に係る赤字・黒字の構成分析!F$38,"▲", "-")), 2) < 0, ABS(ROUND(VALUE(SUBSTITUTE(連結実質赤字比率に係る赤字・黒字の構成分析!F$38,"▲", "-")), 2)), NA()) -> #N/A | C32: =IF(ROUND(VALUE(SUBSTITUTE(連結実質赤字比率に係る赤字・黒字の構成分析!F$38,"▲", "-")), 2) >= 0, ABS(ROUND(VALUE(SUBSTITUTE(連結実質赤字比率に係る赤字・黒字の構成分析!F$38,"▲", "-")), 2)), NA()) -> 0.35 | D32: =IF(ROUND(VALUE(SUBSTITUTE(連結実質赤字比率に係る赤字・黒字の構成分析!G$38,"▲", "-")), 2) < 0, ABS(ROUND(VALUE(SUBSTITUTE(連結実質赤字比率に係る赤字・黒字の構成分析!G$38,"▲", "-")), 2)), NA()) -> #N/A | E32: =IF(ROUND(VALUE(SUBSTITUTE(連結実質赤字比率に係る赤字・黒字の構成分析!G$38,"▲", "-")), 2) >= 0, ABS(ROUND(VALUE(SUBSTITUTE(連結実質赤字比率に係る赤字・黒字の構成分析!G$38,"▲", "-")), 2)), NA()) -> 0.17 | F32: =IF(ROUND(VALUE(SUBSTITUTE(連結実質赤字比率に係る赤字・黒字の構成分析!H$38,"▲", "-")), 2) < 0, ABS(ROUND(VALUE(SUBSTITUTE(連結実質赤字比率に係る赤字・黒字の構成分析!H$38,"▲", "-")), 2)), NA()) -> #N/A | G32: =IF(ROUND(VALUE(SUBSTITUTE(連結実質赤字比率に係る赤字・黒字の構成分析!H$38,"▲", "-")), 2) >= 0, ABS(ROUND(VALUE(SUBSTITUTE(連結実質赤字比率に係る赤字・黒字の構成分析!H$38,"▲", "-")), 2)), NA()) -> 0.32 | H32: =IF(ROUND(VALUE(SUBSTITUTE(連結実質赤字比率に係る赤字・黒字の構成分析!I$38,"▲", "-")), 2) < 0, ABS(ROUND(VALUE(SUBSTITUTE(連結実質赤字比率に係る赤字・黒字の構成分析!I$38,"▲", "-")), 2)), NA()) -> #N/A | I32: =IF(ROUND(VALUE(SUBSTITUTE(連結実質赤字比率に係る赤字・黒字の構成分析!I$38,"▲", "-")), 2) >= 0, ABS(ROUND(VALUE(SUBSTITUTE(連結実質赤字比率に係る赤字・黒字の構成分析!I$38,"▲", "-")), 2)), NA()) -> 0.27 | J32: =IF(ROUND(VALUE(SUBSTITUTE(連結実質赤字比率に係る赤字・黒字の構成分析!J$38,"▲", "-")), 2) < 0, ABS(ROUND(VALUE(SUBSTITUTE(連結実質赤字比率に係る赤字・黒字の構成分析!J$38,"▲", "-")), 2)), NA()) -> #N/A | K32: =IF(ROUND(VALUE(SUBSTITUTE(連結実質赤字比率に係る赤字・黒字の構成分析!J$38,"▲", "-")), 2) >= 0, ABS(ROUND(VALUE(SUBSTITUTE(連結実質赤字比率に係る赤字・黒字の構成分析!J$38,"▲", "-")), 2)), NA()) -> 0.18
A33: =IF(連結実質赤字比率に係る赤字・黒字の構成分析!C$37="",NA(),連結実質赤字比率に係る赤字・黒字の構成分析!C$37) -> 農業集落排水事業特別会計 | B33: =IF(ROUND(VALUE(SUBSTITUTE(連結実質赤字比率に係る赤字・黒字の構成分析!F$37,"▲", "-")), 2) < 0, ABS(ROUND(VALUE(SUBSTITUTE(連結実質赤字比率に係る赤字・黒字の構成分析!F$37,"▲", "-")), 2)), NA()) -> #N/A | C33: =IF(ROUND(VALUE(SUBSTITUTE(連結実質赤字比率に係る赤字・黒字の構成分析!F$37,"▲", "-")), 2) >= 0, ABS(ROUND(VALUE(SUBSTITUTE(連結実質赤字比率に係る赤字・黒字の構成分析!F$37,"▲", "-")), 2)), NA()) -> 0.22 | D33: =IF(ROUND(VALUE(SUBSTITUTE(連結実質赤字比率に係る赤字・黒字の構成分析!G$37,"▲", "-")), 2) < 0, ABS(ROUND(VALUE(SUBSTITUTE(連結実質赤字比率に係る赤字・黒字の構成分析!G$37,"▲", "-")), 2)), NA()) -> #N/A | E33: =IF(ROUND(VALUE(SUBSTITUTE(連結実質赤字比率に係る赤字・黒字の構成分析!G$37,"▲", "-")), 2) >= 0, ABS(ROUND(VALUE(SUBSTITUTE(連結実質赤字比率に係る赤字・黒字の構成分析!G$37,"▲", "-")), 2)), NA()) -> 0.13 | F33: =IF(ROUND(VALUE(SUBSTITUTE(連結実質赤字比率に係る赤字・黒字の構成分析!H$37,"▲", "-")), 2) < 0, ABS(ROUND(VALUE(SUBSTITUTE(連結実質赤字比率に係る赤字・黒字の構成分析!H$37,"▲", "-")), 2)), NA()) -> #N/A | G33: =IF(ROUND(VALUE(SUBSTITUTE(連結実質赤字比率に係る赤字・黒字の構成分析!H$37,"▲", "-")), 2) >= 0, ABS(ROUND(VALUE(SUBSTITUTE(連結実質赤字比率に係る赤字・黒字の構成分析!H$37,"▲", "-")), 2)), NA()) -> 0.23 | H33: =IF(ROUND(VALUE(SUBSTITUTE(連結実質赤字比率に係る赤字・黒字の構成分析!I$37,"▲", "-")), 2) < 0, ABS(ROUND(VALUE(SUBSTITUTE(連結実質赤字比率に係る赤字・黒字の構成分析!I$37,"▲", "-")), 2)), NA()) -> #N/A | I33: =IF(ROUND(VALUE(SUBSTITUTE(連結実質赤字比率に係る赤字・黒字の構成分析!I$37,"▲", "-")), 2) >= 0, ABS(ROUND(VALUE(SUBSTITUTE(連結実質赤字比率に係る赤字・黒字の構成分析!I$37,"▲", "-")), 2)), NA()) -> 0.09 | J33: =IF(ROUND(VALUE(SUBSTITUTE(連結実質赤字比率に係る赤字・黒字の構成分析!J$37,"▲", "-")), 2) < 0, ABS(ROUND(VALUE(SUBSTITUTE(連結実質赤字比率に係る赤字・黒字の構成分析!J$37,"▲", "-")), 2)), NA()) -> #N/A | K33: =IF(ROUND(VALUE(SUBSTITUTE(連結実質赤字比率に係る赤字・黒字の構成分析!J$37,"▲", "-")), 2) >= 0, ABS(ROUND(VALUE(SUBSTITUTE(連結実質赤字比率に係る赤字・黒字の構成分析!J$37,"▲", "-")), 2)), NA()) -> 0.25
A34: =IF(連結実質赤字比率に係る赤字・黒字の構成分析!C$36="",NA(),連結実質赤字比率に係る赤字・黒字の構成分析!C$36) -> 介護保険事業特別会計 | B34: =IF(ROUND(VALUE(SUBSTITUTE(連結実質赤字比率に係る赤字・黒字の構成分析!F$36,"▲", "-")), 2) < 0, ABS(ROUND(VALUE(SUBSTITUTE(連結実質赤字比率に係る赤字・黒字の構成分析!F$36,"▲", "-")), 2)), NA()) -> #N/A | C34: =IF(ROUND(VALUE(SUBSTITUTE(連結実質赤字比率に係る赤字・黒字の構成分析!F$36,"▲", "-")), 2) >= 0, ABS(ROUND(VALUE(SUBSTITUTE(連結実質赤字比率に係る赤字・黒字の構成分析!F$36,"▲", "-")), 2)), NA()) -> 2.36 | D34: =IF(ROUND(VALUE(SUBSTITUTE(連結実質赤字比率に係る赤字・黒字の構成分析!G$36,"▲", "-")), 2) < 0, ABS(ROUND(VALUE(SUBSTITUTE(連結実質赤字比率に係る赤字・黒字の構成分析!G$36,"▲", "-")), 2)), NA()) -> #N/A | E34: =IF(ROUND(VALUE(SUBSTITUTE(連結実質赤字比率に係る赤字・黒字の構成分析!G$36,"▲", "-")), 2) >= 0, ABS(ROUND(VALUE(SUBSTITUTE(連結実質赤字比率に係る赤字・黒字の構成分析!G$36,"▲", "-")), 2)), NA()) -> 1.58 | F34: =IF(ROUND(VALUE(SUBSTITUTE(連結実質赤字比率に係る赤字・黒字の構成分析!H$36,"▲", "-")), 2) < 0, ABS(ROUND(VALUE(SUBSTITUTE(連結実質赤字比率に係る赤字・黒字の構成分析!H$36,"▲", "-")), 2)), NA()) -> #N/A | G34: =IF(ROUND(VALUE(SUBSTITUTE(連結実質赤字比率に係る赤字・黒字の構成分析!H$36,"▲", "-")), 2) >= 0, ABS(ROUND(VALUE(SUBSTITUTE(連結実質赤字比率に係る赤字・黒字の構成分析!H$36,"▲", "-")), 2)), NA()) -> 1.96 | H34: =IF(ROUND(VALUE(SUBSTITUTE(連結実質赤字比率に係る赤字・黒字の構成分析!I$36,"▲", "-")), 2) < 0, ABS(ROUND(VALUE(SUBSTITUTE(連結実質赤字比率に係る赤字・黒字の構成分析!I$36,"▲", "-")), 2)), NA()) -> #N/A | I34: =IF(ROUND(VALUE(SUBSTITUTE(連結実質赤字比率に係る赤字・黒字の構成分析!I$36,"▲", "-")), 2) >= 0, ABS(ROUND(VALUE(SUBSTITUTE(連結実質赤字比率に係る赤字・黒字の構成分析!I$36,"▲", "-")), 2)), NA()) -> 0.59 | J34: =IF(ROUND(VALUE(SUBSTITUTE(連結実質赤字比率に係る赤字・黒字の構成分析!J$36,"▲", "-")), 2) < 0, ABS(ROUND(VALUE(SUBSTITUTE(連結実質赤字比率に係る赤字・黒字の構成分析!J$36,"▲", "-")), 2)), NA()) -> #N/A | K34: =IF(ROUND(VALUE(SUBSTITUTE(連結実質赤字比率に係る赤字・黒字の構成分析!J$36,"▲", "-")), 2) >= 0, ABS(ROUND(VALUE(SUBSTITUTE(連結実質赤字比率に係る赤字・黒字の構成分析!J$36,"▲", "-")), 2)), NA()) -> 1.78
A35: =IF(連結実質赤字比率に係る赤字・黒字の構成分析!C$35="",NA(),連結実質赤字比率に係る赤字・黒字の構成分析!C$35) -> 国民健康保険事業特別会計 | B35: =IF(ROUND(VALUE(SUBSTITUTE(連結実質赤字比率に係る赤字・黒字の構成分析!F$35,"▲", "-")), 2) < 0, ABS(ROUND(VALUE(SUBSTITUTE(連結実質赤字比率に係る赤字・黒字の構成分析!F$35,"▲", "-")), 2)), NA()) -> #N/A | C35: =IF(ROUND(VALUE(SUBSTITUTE(連結実質赤字比率に係る赤字・黒字の構成分析!F$35,"▲", "-")), 2) >= 0, ABS(ROUND(VALUE(SUBSTITUTE(連結実質赤字比率に係る赤字・黒字の構成分析!F$35,"▲", "-")), 2)), NA()) -> 4.49 | D35: =IF(ROUND(VALUE(SUBSTITUTE(連結実質赤字比率に係る赤字・黒字の構成分析!G$35,"▲", "-")), 2) < 0, ABS(ROUND(VALUE(SUBSTITUTE(連結実質赤字比率に係る赤字・黒字の構成分析!G$35,"▲", "-")), 2)), NA()) -> #N/A | E35: =IF(ROUND(VALUE(SUBSTITUTE(連結実質赤字比率に係る赤字・黒字の構成分析!G$35,"▲", "-")), 2) >= 0, ABS(ROUND(VALUE(SUBSTITUTE(連結実質赤字比率に係る赤字・黒字の構成分析!G$35,"▲", "-")), 2)), NA()) -> 4.2 | F35: =IF(ROUND(VALUE(SUBSTITUTE(連結実質赤字比率に係る赤字・黒字の構成分析!H$35,"▲", "-")), 2) < 0, ABS(ROUND(VALUE(SUBSTITUTE(連結実質赤字比率に係る赤字・黒字の構成分析!H$35,"▲", "-")), 2)), NA()) -> #N/A | G35: =IF(ROUND(VALUE(SUBSTITUTE(連結実質赤字比率に係る赤字・黒字の構成分析!H$35,"▲", "-")), 2) >= 0, ABS(ROUND(VALUE(SUBSTITUTE(連結実質赤字比率に係る赤字・黒字の構成分析!H$35,"▲", "-")), 2)), NA()) -> 6.92 | H35: =IF(ROUND(VALUE(SUBSTITUTE(連結実質赤字比率に係る赤字・黒字の構成分析!I$35,"▲", "-")), 2) < 0, ABS(ROUND(VALUE(SUBSTITUTE(連結実質赤字比率に係る赤字・黒字の構成分析!I$35,"▲", "-")), 2)), NA()) -> #N/A | I35: =IF(ROUND(VALUE(SUBSTITUTE(連結実質赤字比率に係る赤字・黒字の構成分析!I$35,"▲", "-")), 2) >= 0, ABS(ROUND(VALUE(SUBSTITUTE(連結実質赤字比率に係る赤字・黒字の構成分析!I$35,"▲", "-")), 2)), NA()) -> 5.27 | J35: =IF(ROUND(VALUE(SUBSTITUTE(連結実質赤字比率に係る赤字・黒字の構成分析!J$35,"▲", "-")), 2) < 0, ABS(ROUND(VALUE(SUBSTITUTE(連結実質赤字比率に係る赤字・黒字の構成分析!J$35,"▲", "-")), 2)), NA()) -> #N/A | K35: =IF(ROUND(VALUE(SUBSTITUTE(連結実質赤字比率に係る赤字・黒字の構成分析!J$35,"▲", "-")), 2) >= 0, ABS(ROUND(VALUE(SUBSTITUTE(連結実質赤字比率に係る赤字・黒字の構成分析!J$35,"▲", "-")), 2)), NA()) -> 2.8
A36: =IF(連結実質赤字比率に係る赤字・黒字の構成分析!C$34="",NA(),連結実質赤字比率に係る赤字・黒字の構成分析!C$34) -> 一般会計 | B36: =IF(ROUND(VALUE(SUBSTITUTE(連結実質赤字比率に係る赤字・黒字の構成分析!F$34,"▲", "-")), 2) < 0, ABS(ROUND(VALUE(SUBSTITUTE(連結実質赤字比率に係る赤字・黒字の構成分析!F$34,"▲", "-")), 2)), NA()) -> #N/A | C36: =IF(ROUND(VALUE(SUBSTITUTE(連結実質赤字比率に係る赤字・黒字の構成分析!F$34,"▲", "-")), 2) >= 0, ABS(ROUND(VALUE(SUBSTITUTE(連結実質赤字比率に係る赤字・黒字の構成分析!F$34,"▲", "-")), 2)), NA()) -> 13.38 | D36: =IF(ROUND(VALUE(SUBSTITUTE(連結実質赤字比率に係る赤字・黒字の構成分析!G$34,"▲", "-")), 2) < 0, ABS(ROUND(VALUE(SUBSTITUTE(連結実質赤字比率に係る赤字・黒字の構成分析!G$34,"▲", "-")), 2)), NA()) -> #N/A | E36: =IF(ROUND(VALUE(SUBSTITUTE(連結実質赤字比率に係る赤字・黒字の構成分析!G$34,"▲", "-")), 2) >= 0, ABS(ROUND(VALUE(SUBSTITUTE(連結実質赤字比率に係る赤字・黒字の構成分析!G$34,"▲", "-")), 2)), NA()) -> 29.49 | F36: =IF(ROUND(VALUE(SUBSTITUTE(連結実質赤字比率に係る赤字・黒字の構成分析!H$34,"▲", "-")), 2) < 0, ABS(ROUND(VALUE(SUBSTITUTE(連結実質赤字比率に係る赤字・黒字の構成分析!H$34,"▲", "-")), 2)), NA()) -> #N/A | G36: =IF(ROUND(VALUE(SUBSTITUTE(連結実質赤字比率に係る赤字・黒字の構成分析!H$34,"▲", "-")), 2) >= 0, ABS(ROUND(VALUE(SUBSTITUTE(連結実質赤字比率に係る赤字・黒字の構成分析!H$34,"▲", "-")), 2)), NA()) -> 23.82 | H36: =IF(ROUND(VALUE(SUBSTITUTE(連結実質赤字比率に係る赤字・黒字の構成分析!I$34,"▲", "-")), 2) < 0, ABS(ROUND(VALUE(SUBSTITUTE(連結実質赤字比率に係る赤字・黒字の構成分析!I$34,"▲", "-")), 2)), NA()) -> #N/A | I36: =IF(ROUND(VALUE(SUBSTITUTE(連結実質赤字比率に係る赤字・黒字の構成分析!I$34,"▲", "-")), 2) >= 0, ABS(ROUND(VALUE(SUBSTITUTE(連結実質赤字比率に係る赤字・黒字の構成分析!I$34,"▲", "-")), 2)), NA()) -> 14.28 | J36: =IF(ROUND(VALUE(SUBSTITUTE(連結実質赤字比率に係る赤字・黒字の構成分析!J$34,"▲", "-")), 2) < 0, ABS(ROUND(VALUE(SUBSTITUTE(連結実質赤字比率に係る赤字・黒字の構成分析!J$34,"▲", "-")), 2)), NA()) -> #N/A | K36: =IF(ROUND(VALUE(SUBSTITUTE(連結実質赤字比率に係る赤字・黒字の構成分析!J$34,"▲", "-")), 2) >= 0, ABS(ROUND(VALUE(SUBSTITUTE(連結実質赤字比率に係る赤字・黒字の構成分析!J$34,"▲", "-")), 2)), NA()) -> 11.8
A39: 実質公債費比率（分子）の構造
B40: ='実質公債費比率（分子）の構造'!K$44 -> R02 | E40: ='実質公債費比率（分子）の構造'!L$44 -> R03 | H40: ='実質公債費比率（分子）の構造'!M$44 -> R04 | K40: ='実質公債費比率（分子）の構造'!N$44 -> R05 | N40: ='実質公債費比率（分子）の構造'!O$44 -> R06
B41: 元利償還金等 | D41: 算入公債費等 | E41: 元利償還金等 | G41: 算入公債費等 | H41: 元利償還金等 | J41: 算入公債費等 | K41: 元利償還金等 | M41: 算入公債費等 | N41: 元利償還金等 | P41: 算入公債費等
A42: 算入公債費等 | D42: ='実質公債費比率（分子）の構造'!K$52 -> 603 | G42: ='実質公債費比率（分子）の構造'!L$52 -> 569 | J42: ='実質公債費比率（分子）の構造'!M$52 -> 523 | M42: ='実質公債費比率（分子）の構造'!N$52 -> 496 | P42: ='実質公債費比率（分子）の構造'!O$52 -> 462
A43: 一時借入金の利子 | B43: ='実質公債費比率（分子）の構造'!K$51 -> - | E43: ='実質公債費比率（分子）の構造'!L$51 -> - | H43: ='実質公債費比率（分子）の構造'!M$51 -> - | K43: ='実質公債費比率（分子）の構造'!N$51 -> - | N43: ='実質公債費比率（分子）の構造'!O$51 -> -
A44: 債務負担行為に基づく支出額 | B44: ='実質公債費比率（分子）の構造'!K$50 -> 124 | E44: ='実質公債費比率（分子）の構造'!L$50 -> 124 | H44: ='実質公債費比率（分子）の構造'!M$50 -> 124 | K44: ='実質公債費比率（分子）の構造'!N$50 -> 124 | N44: ='実質公債費比率（分子）の構造'!O$50 -> 186
A45: 組合等が起こした地方債の元利償還金に対する負担金等 | B45: ='実質公債費比率（分子）の構造'!K$49 -> 18 | E45: ='実質公債費比率（分子）の構造'!L$49 -> 25 | H45: ='実質公債費比率（分子）の構造'!M$49 -> 25 | K45: ='実質公債費比率（分子）の構造'!N$49 -> 24 | N45: ='実質公債費比率（分子）の構造'!O$49 -> 20
A46: 公営企業債の元利償還金に対する繰入金 | B46: ='実質公債費比率（分子）の構造'!K$48 -> 425 | E46: ='実質公債費比率（分子）の構造'!L$48 -> 70 | H46: ='実質公債費比率（分子）の構造'!M$48 -> 296 | K46: ='実質公債費比率（分子）の構造'!N$48 -> 238 | N46: ='実質公債費比率（分子）の構造'!O$48 -> 215
A47: 満期一括償還地方債に係る年度割相当額 | B47: ='実質公債費比率（分子）の構造'!K$47 -> - | E47: ='実質公債費比率（分子）の構造'!L$47 -> - | H47: ='実質公債費比率（分子）の構造'!M$47 -> - | K47: ='実質公債費比率（分子）の構造'!N$47 -> - | N47: ='実質公債費比率（分子）の構造'!O$47 -> -
...
